BEGIN:VCALENDAR
VERSION:2.0
METHOD:PUBLISH
CALSCALE:GREGORIAN
BEGIN:VEVENT
UID:46cdf22a-190e-49db-9754-40fd94e9f180
SEQUENCE:0
CLASS:PUBLIC
PRIORITY:5
DTSTAMP:20260424T222921Z
CREATED:20260424T222921Z
DTSTART:20260427T081500Z
DTEND:20260427T191500Z
SUMMARY:CREMATION de Xavier Brunet
LOCATION:Parc des Hunaudières, 72230, RUAUDIN
BEGIN:VALARM
TRIGGER:-PT30M
ACTION:DISPLAY
DESCRIPTION:Reminder
END:VALARM
END:VEVENT
END:VCALENDAR
