BEGIN:VCALENDAR
VERSION:2.0
METHOD:PUBLISH
CALSCALE:GREGORIAN
BEGIN:VEVENT
UID:7a7200d0-9aa6-4cb5-8bcc-4e10ca585c52
SEQUENCE:0
CLASS:PUBLIC
PRIORITY:5
DTSTAMP:20260425T171951Z
CREATED:20260425T171951Z
DTSTART:20260425T140000Z
DTEND:20260425T144500Z
SUMMARY:CEREMONIE RELIGIEUSE de Xavier Brunet
LOCATION:Église Saint-Denis,Rue de l'Église, 53290, SAINT DENIS D'ANJOU
BEGIN:VALARM
TRIGGER:-PT30M
ACTION:DISPLAY
DESCRIPTION:Reminder
END:VALARM
END:VEVENT
END:VCALENDAR
