BEGIN:VCALENDAR
VERSION:2.0
METHOD:PUBLISH
CALSCALE:GREGORIAN
BEGIN:VEVENT
UID:acc6b00e-e02b-4f98-aa80-073464472c84
SEQUENCE:0
CLASS:PUBLIC
PRIORITY:5
DTSTAMP:20260423T230528Z
CREATED:20260423T230528Z
DTSTART:20260427T170000Z
DTEND:20260427T190000Z
SUMMARY:CREMATION de Jacqueline Jarret
LOCATION:Z A d'activité Anjou-Actiparc, 49630, Corne
BEGIN:VALARM
TRIGGER:-PT30M
ACTION:DISPLAY
DESCRIPTION:Reminder
END:VALARM
END:VEVENT
END:VCALENDAR
