BEGIN:VCALENDAR
VERSION:2.0
METHOD:PUBLISH
CALSCALE:GREGORIAN
BEGIN:VEVENT
UID:a178eede-8275-4100-bd2a-260a34fffdb4
SEQUENCE:0
CLASS:PUBLIC
PRIORITY:5
DTSTAMP:20260423T230528Z
CREATED:20260423T230528Z
DTSTART:20260428T110000Z
DTEND:20260428T113000Z
SUMMARY:INHUMATION de Jacqueline Jarret
LOCATION:Cimetière, 72200, CLERMONT CREANS
BEGIN:VALARM
TRIGGER:-PT30M
ACTION:DISPLAY
DESCRIPTION:Reminder
END:VALARM
END:VEVENT
END:VCALENDAR
