BEGIN:VCALENDAR
VERSION:2.0
METHOD:PUBLISH
CALSCALE:GREGORIAN
BEGIN:VEVENT
UID:24e33055-2ea9-4ba6-8ecb-695e2690c600
SEQUENCE:0
CLASS:PUBLIC
PRIORITY:5
DTSTAMP:20260423T230528Z
CREATED:20260423T230528Z
DTSTART:20260427T140000Z
DTEND:20260427T150000Z
SUMMARY:CEREMONIE CIVILE de Jacqueline Jarret
LOCATION:Salle du Canada, 72200, LA FLECHE
BEGIN:VALARM
TRIGGER:-PT30M
ACTION:DISPLAY
DESCRIPTION:Reminder
END:VALARM
END:VEVENT
END:VCALENDAR
