BEGIN:VCALENDAR
VERSION:2.0
METHOD:PUBLISH
CALSCALE:GREGORIAN
BEGIN:VEVENT
UID:f2a84e35-cfa8-467b-89bb-bb8f47c77442
SEQUENCE:0
CLASS:PUBLIC
PRIORITY:5
DTSTAMP:20260422T001900Z
CREATED:20260422T001900Z
DTSTART:20260424T111500Z
DTEND:20260424T113000Z
SUMMARY:INHUMATION de Ginette Pilon
LOCATION:Cimetière St-Thomas, 72200, LA FLECHE
BEGIN:VALARM
TRIGGER:-PT30M
ACTION:DISPLAY
DESCRIPTION:Reminder
END:VALARM
END:VEVENT
END:VCALENDAR
