BEGIN:VCALENDAR
VERSION:2.0
METHOD:PUBLISH
CALSCALE:GREGORIAN
BEGIN:VEVENT
UID:75d74cac-bfbc-4d34-82a5-adb983bdf714
SEQUENCE:0
CLASS:PUBLIC
PRIORITY:5
DTSTAMP:20260422T001900Z
CREATED:20260422T001900Z
DTSTART:20260424T100000Z
DTEND:20260424T110000Z
SUMMARY:CEREMONIE RELIGIEUSE de Ginette Pilon
LOCATION:Église Saint-Thomas,rue Saint-Thomas, 72200, LA FLECHE
BEGIN:VALARM
TRIGGER:-PT30M
ACTION:DISPLAY
DESCRIPTION:Reminder
END:VALARM
END:VEVENT
END:VCALENDAR
