BEGIN:VCALENDAR
VERSION:2.0
METHOD:PUBLISH
CALSCALE:GREGORIAN
BEGIN:VEVENT
UID:29d7b427-f603-491c-b17d-8752f54b9c9e
SEQUENCE:0
CLASS:PUBLIC
PRIORITY:5
DTSTAMP:20260423T065423Z
CREATED:20260423T065423Z
DTSTART:20260425T110000Z
DTEND:20260425T120000Z
SUMMARY:INHUMATION de Huguette Goude
LOCATION:1-31 rue de la Paix, 72430, NOYEN SUR SARTHE
BEGIN:VALARM
TRIGGER:-PT30M
ACTION:DISPLAY
DESCRIPTION:Reminder
END:VALARM
END:VEVENT
END:VCALENDAR
