BEGIN:VCALENDAR
VERSION:2.0
METHOD:PUBLISH
CALSCALE:GREGORIAN
BEGIN:VEVENT
UID:379d949a-e327-40d7-b7e7-b62edfe5eb4a
SEQUENCE:0
CLASS:PUBLIC
PRIORITY:5
DTSTAMP:20260423T065400Z
CREATED:20260423T065400Z
DTSTART:20260425T100000Z
DTEND:20260425T110000Z
SUMMARY:CEREMONIE CIVILE de Huguette Goude
LOCATION:Salle Résidence Les Metiers, 72430, NOYEN SUR SARTHE
BEGIN:VALARM
TRIGGER:-PT30M
ACTION:DISPLAY
DESCRIPTION:Reminder
END:VALARM
END:VEVENT
END:VCALENDAR
