BEGIN:VCALENDAR
VERSION:2.0
METHOD:PUBLISH
CALSCALE:GREGORIAN
BEGIN:VEVENT
UID:c8a5be38-575e-418c-9870-b04ac4b66134
SEQUENCE:0
CLASS:PUBLIC
PRIORITY:5
DTSTAMP:20260421T165448Z
CREATED:20260421T165448Z
DTSTART:20260427T111500Z
DTEND:20260427T114500Z
SUMMARY:INHUMATION de Claudette Lelievre
LOCATION:49490, NOYANT VILLAGES
BEGIN:VALARM
TRIGGER:-PT30M
ACTION:DISPLAY
DESCRIPTION:Reminder
END:VALARM
END:VEVENT
END:VCALENDAR
