BEGIN:VCALENDAR
VERSION:2.0
METHOD:PUBLISH
CALSCALE:GREGORIAN
BEGIN:VEVENT
UID:dcd0ff57-b622-4fe2-8229-e2695bca961f
SEQUENCE:0
CLASS:PUBLIC
PRIORITY:5
DTSTAMP:20260421T165448Z
CREATED:20260421T165448Z
DTSTART:20260427T100000Z
DTEND:20260427T110000Z
SUMMARY:CEREMONIE RELIGIEUSE de Claudette Lelievre
LOCATION:en l'église, 49490, NOYANT VILLAGES
BEGIN:VALARM
TRIGGER:-PT30M
ACTION:DISPLAY
DESCRIPTION:Reminder
END:VALARM
END:VEVENT
END:VCALENDAR
