BEGIN:VCALENDAR
VERSION:2.0
METHOD:PUBLISH
CALSCALE:GREGORIAN
BEGIN:VEVENT
UID:d41df274-1483-47c8-8568-22253a7fda8c
SEQUENCE:0
CLASS:PUBLIC
PRIORITY:5
DTSTAMP:20260420T140659Z
CREATED:20260420T140659Z
DTSTART:20260423T160000Z
DTEND:20260423T170000Z
SUMMARY:INHUMATION de Albertine Lemêle
LOCATION:Rue Abbé Bouchereau, 72430, CHANTENAY VILLEDIEU
BEGIN:VALARM
TRIGGER:-PT30M
ACTION:DISPLAY
DESCRIPTION:Reminder
END:VALARM
END:VEVENT
END:VCALENDAR
