BEGIN:VCALENDAR
VERSION:2.0
METHOD:PUBLISH
CALSCALE:GREGORIAN
BEGIN:VEVENT
UID:d78fab03-827b-473e-a86c-c8e86e6babae
SEQUENCE:0
CLASS:PUBLIC
PRIORITY:5
DTSTAMP:20260420T204816Z
CREATED:20260420T204816Z
DTSTART:20260423T143000Z
DTEND:20260423T153000Z
SUMMARY:CEREMONIE RELIGIEUSE de Albertine Lemêle
LOCATION:Église Saint-Jean-Baptiste,Place de la Mairie, 72430, CHANTENAY VILLEDIEU
BEGIN:VALARM
TRIGGER:-PT30M
ACTION:DISPLAY
DESCRIPTION:Reminder
END:VALARM
END:VEVENT
END:VCALENDAR
