BEGIN:VCALENDAR
VERSION:2.0
METHOD:PUBLISH
CALSCALE:GREGORIAN
BEGIN:VEVENT
UID:e9705076-f3f0-449b-bfd9-5cb9be691fa6
SEQUENCE:0
CLASS:PUBLIC
PRIORITY:5
DTSTAMP:20260422T115701Z
CREATED:20260422T115701Z
DTSTART:20260304T134500Z
SUMMARY:CEREMONIE CIVILE  de Michel Talour
LOCATION:Z A d'activité Anjou-Actiparc, 49630, Corne
BEGIN:VALARM
TRIGGER:-PT30M
ACTION:DISPLAY
DESCRIPTION:Reminder
END:VALARM
END:VEVENT
END:VCALENDAR
