BEGIN:VCALENDAR
VERSION:2.0
METHOD:PUBLISH
CALSCALE:GREGORIAN
BEGIN:VEVENT
UID:b1694b04-8549-4579-8efd-21e902a36e0f
SEQUENCE:0
CLASS:PUBLIC
PRIORITY:5
DTSTAMP:20260422T115656Z
CREATED:20260422T115656Z
DTSTART:20260305T100000Z
SUMMARY:INHUMATION de Michel Talour
LOCATION:72200, LA FLECHE
BEGIN:VALARM
TRIGGER:-PT30M
ACTION:DISPLAY
DESCRIPTION:Reminder
END:VALARM
END:VEVENT
END:VCALENDAR
