BEGIN:VCALENDAR
VERSION:2.0
METHOD:PUBLISH
CALSCALE:GREGORIAN
BEGIN:VEVENT
UID:15c3b919-0d22-4b6a-a490-bed79135af80
SEQUENCE:0
CLASS:PUBLIC
PRIORITY:5
DTSTAMP:20260422T115706Z
CREATED:20260422T115706Z
DTSTART:20260304T144500Z
SUMMARY:CREMATION de Michel Talour
LOCATION:Z A d'activité Anjou-Actiparc, 49630, Corne
BEGIN:VALARM
TRIGGER:-PT30M
ACTION:DISPLAY
DESCRIPTION:Reminder
END:VALARM
END:VEVENT
END:VCALENDAR
